Package: quantsmooth Version: 1.70.0 Command: rm -rf quantsmooth.buildbin-libdir && mkdir quantsmooth.buildbin-libdir && E:\biocbuild\bbs-3.19-bioc\R\bin\R.exe CMD INSTALL --build --library=quantsmooth.buildbin-libdir quantsmooth_1.70.0.tar.gz StartedAt: 2024-10-17 08:24:41 -0400 (Thu, 17 Oct 2024) EndedAt: 2024-10-17 08:24:54 -0400 (Thu, 17 Oct 2024) EllapsedTime: 13.1 seconds RetCode: 0 Status: OK PackageFile: quantsmooth_1.70.0.zip PackageFileSize: 316 KiB