Package: quantro Version: 1.38.0 Command: F:\biocbuild\bbs-3.19-bioc\R\bin\R.exe CMD INSTALL quantro StartedAt: 2024-06-26 16:48:26 -0400 (Wed, 26 Jun 2024) EndedAt: 2024-06-26 16:49:28 -0400 (Wed, 26 Jun 2024) EllapsedTime: 62.1 seconds RetCode: 0 Status: OK