Package: qsvaR Version: 1.8.0 Command: rm -rf qsvaR.buildbin-libdir && mkdir qsvaR.buildbin-libdir && F:\biocbuild\bbs-3.19-bioc\R\bin\R.exe CMD INSTALL --build --library=qsvaR.buildbin-libdir qsvaR_1.8.0.tar.gz StartedAt: 2024-06-27 08:43:30 -0400 (Thu, 27 Jun 2024) EndedAt: 2024-06-27 08:44:18 -0400 (Thu, 27 Jun 2024) EllapsedTime: 47.9 seconds RetCode: 0 Status: OK PackageFile: qsvaR_1.8.0.zip PackageFileSize: 3.444 MiB