Package: qsvaR Version: 1.8.0 Command: rm -rf qsvaR.buildbin-libdir && mkdir qsvaR.buildbin-libdir && /Users/biocbuild/BBS/utils/build-universal.sh qsvaR_1.8.0.tar.gz /Library/Frameworks/R.framework/Resources/bin/R qsvaR.buildbin-libdir StartedAt: 2024-06-10 00:33:39 -0400 (Mon, 10 Jun 2024) EndedAt: 2024-06-10 00:34:22 -0400 (Mon, 10 Jun 2024) EllapsedTime: 42.9 seconds RetCode: 0 Status: OK PackageFile: qsvaR_1.8.0.tgz PackageFileSize: 3.555 MiB