Package: qsvaR Version: 1.8.0 Command: /Library/Frameworks/R.framework/Resources/bin/R CMD INSTALL qsvaR StartedAt: 2024-10-16 18:05:00 -0400 (Wed, 16 Oct 2024) EndedAt: 2024-10-16 18:05:36 -0400 (Wed, 16 Oct 2024) EllapsedTime: 36.1 seconds RetCode: 0 Status: OK