Package: qsvaR Version: 1.8.0 Command: /Library/Frameworks/R.framework/Resources/bin/R CMD check --install=check:qsvaR.install-out.txt --library=/Library/Frameworks/R.framework/Resources/library --no-vignettes --timings qsvaR_1.8.0.tar.gz StartedAt: 2024-10-18 08:30:52 -0400 (Fri, 18 Oct 2024) EndedAt: 2024-10-18 08:35:32 -0400 (Fri, 18 Oct 2024) EllapsedTime: 279.9 seconds RetCode: 0 Status: OK CheckDir: qsvaR.Rcheck Warnings: 0