Package: qsvaR Version: 1.8.0 Command: rm -rf qsvaR.buildbin-libdir && mkdir qsvaR.buildbin-libdir && /Users/biocbuild/BBS/utils/build-universal.sh qsvaR_1.8.0.tar.gz /Library/Frameworks/R.framework/Resources/bin/R qsvaR.buildbin-libdir StartedAt: 2024-10-18 20:06:06 -0400 (Fri, 18 Oct 2024) EndedAt: 2024-10-18 20:06:50 -0400 (Fri, 18 Oct 2024) EllapsedTime: 43.4 seconds RetCode: 0 Status: OK PackageFile: qsvaR_1.8.0.tgz PackageFileSize: 3.555 MiB