Package: qsvaR Version: 1.8.0 Maintainer: Hedia Tnani MaintainerEmail: hediatnani0 at gmail.com git_url: https://git.bioconductor.org/packages/qsvaR git_branch: RELEASE_3_19 git_last_commit: 762bef1 git_last_commit_date: 2024-04-30 11:41:22 -0400 (Tue, 30 Apr 2024)