Package: qsmooth Version: 1.20.0 Command: E:\biocbuild\bbs-3.19-bioc\R\bin\R.exe CMD INSTALL qsmooth StartedAt: 2024-10-16 17:02:57 -0400 (Wed, 16 Oct 2024) EndedAt: 2024-10-16 17:03:40 -0400 (Wed, 16 Oct 2024) EllapsedTime: 42.7 seconds RetCode: 0 Status: OK