Package: qsmooth Version: 1.20.0 Command: chmod a+r qsmooth -R && E:\biocbuild\bbs-3.19-bioc\R\bin\R.exe CMD build --keep-empty-dirs --no-resave-data qsmooth StartedAt: 2024-10-16 21:17:27 -0400 (Wed, 16 Oct 2024) EndedAt: 2024-10-16 21:19:02 -0400 (Wed, 16 Oct 2024) EllapsedTime: 94.5 seconds RetCode: 0 Status: OK PackageFile: qsmooth_1.20.0.tar.gz PackageFileSize: 770 KiB