Package: qsmooth Version: 1.20.0 Command: rm -rf qsmooth.buildbin-libdir && mkdir qsmooth.buildbin-libdir && E:\biocbuild\bbs-3.19-bioc\R\bin\R.exe CMD INSTALL --build --library=qsmooth.buildbin-libdir qsmooth_1.20.0.tar.gz StartedAt: 2024-10-17 08:24:21 -0400 (Thu, 17 Oct 2024) EndedAt: 2024-10-17 08:24:59 -0400 (Thu, 17 Oct 2024) EllapsedTime: 38.8 seconds RetCode: 0 Status: OK PackageFile: qsmooth_1.20.0.zip PackageFileSize: 954.5 KiB