Package: qsmooth Version: 1.20.0 Command: /Library/Frameworks/R.framework/Resources/bin/R CMD build --keep-empty-dirs --no-resave-data qsmooth StartedAt: 2024-10-16 22:19:16 -0400 (Wed, 16 Oct 2024) EndedAt: 2024-10-16 22:21:56 -0400 (Wed, 16 Oct 2024) EllapsedTime: 160.7 seconds RetCode: 0 Status: OK PackageFile: qsmooth_1.20.0.tar.gz PackageFileSize: 1.3 MiB