Package: qsmooth Version: 1.20.0 Command: rm -rf qsmooth.buildbin-libdir && mkdir qsmooth.buildbin-libdir && /Users/biocbuild/BBS/utils/build-universal.sh qsmooth_1.20.0.tar.gz /Library/Frameworks/R.framework/Resources/bin/R qsmooth.buildbin-libdir StartedAt: 2024-10-17 16:54:23 -0400 (Thu, 17 Oct 2024) EndedAt: 2024-10-17 16:55:47 -0400 (Thu, 17 Oct 2024) EllapsedTime: 83.8 seconds RetCode: 0 Status: OK PackageFile: qsmooth_1.20.0.tgz PackageFileSize: 1.477 MiB