Package: qsmooth Version: 1.20.0 Command: rm -rf qsmooth.buildbin-libdir && mkdir qsmooth.buildbin-libdir && /Users/biocbuild/BBS/utils/build-universal.sh qsmooth_1.20.0.tar.gz /Library/Frameworks/R.framework/Resources/bin/R qsmooth.buildbin-libdir StartedAt: 2024-06-10 00:33:38 -0400 (Mon, 10 Jun 2024) EndedAt: 2024-06-10 00:34:23 -0400 (Mon, 10 Jun 2024) EllapsedTime: 45.2 seconds RetCode: 0 Status: OK PackageFile: qsmooth_1.20.0.tgz PackageFileSize: 1.481 MiB