Package: qsmooth Version: 1.20.0 Command: /Library/Frameworks/R.framework/Resources/bin/R CMD build --keep-empty-dirs --no-resave-data qsmooth StartedAt: 2024-10-17 06:55:21 -0400 (Thu, 17 Oct 2024) EndedAt: 2024-10-17 06:56:47 -0400 (Thu, 17 Oct 2024) EllapsedTime: 86.1 seconds RetCode: 0 Status: OK PackageFile: qsmooth_1.20.0.tar.gz PackageFileSize: 1.3 MiB