Package: qsea Version: 1.30.0 Command: /Library/Frameworks/R.framework/Resources/bin/R CMD build --keep-empty-dirs --no-resave-data qsea StartedAt: 2024-06-09 17:48:43 -0400 (Sun, 09 Jun 2024) EndedAt: 2024-06-09 17:49:56 -0400 (Sun, 09 Jun 2024) EllapsedTime: 73.1 seconds RetCode: 0 Status: OK PackageFile: qsea_1.30.0.tar.gz PackageFileSize: 824.9 KiB