Package: qsea Version: 1.30.0 Command: /Library/Frameworks/R.framework/Resources/bin/R CMD check --install=check:qsea.install-out.txt --library=/Library/Frameworks/R.framework/Resources/library --no-vignettes --timings qsea_1.30.0.tar.gz StartedAt: 2024-06-11 02:07:33 -0400 (Tue, 11 Jun 2024) EndedAt: 2024-06-11 02:15:14 -0400 (Tue, 11 Jun 2024) EllapsedTime: 461.0 seconds RetCode: 0 Status: WARNINGS CheckDir: qsea.Rcheck Warnings: 1