Package: qpgraph Version: 2.38.0 Command: F:\biocbuild\bbs-3.19-bioc\R\bin\R.exe CMD INSTALL qpgraph StartedAt: 2024-06-26 16:04:52 -0400 (Wed, 26 Jun 2024) EndedAt: 2024-06-26 16:06:14 -0400 (Wed, 26 Jun 2024) EllapsedTime: 82.4 seconds RetCode: 0 Status: OK