Package: qpgraph Version: 2.38.0 Command: /home/biocbuild/bbs-3.19-bioc/R/bin/R CMD INSTALL qpgraph StartedAt: 2024-10-16 16:05:21 -0400 (Wed, 16 Oct 2024) EndedAt: 2024-10-16 16:06:13 -0400 (Wed, 16 Oct 2024) EllapsedTime: 51.8 seconds RetCode: 0 Status: OK