Package: qpgraph Version: 2.38.0 Command: /home/biocbuild/bbs-3.19-bioc/R/bin/R CMD check --install=check:qpgraph.install-out.txt --library=/home/biocbuild/bbs-3.19-bioc/R/site-library --timings qpgraph_2.38.0.tar.gz StartedAt: 2024-10-17 04:01:45 -0400 (Thu, 17 Oct 2024) EndedAt: 2024-10-17 04:08:01 -0400 (Thu, 17 Oct 2024) EllapsedTime: 375.8 seconds RetCode: 0 Status: OK CheckDir: qpgraph.Rcheck Warnings: 0