Package: qpgraph Version: 2.38.0 Command: /home/biocbuild/bbs-3.19-bioc/R/bin/R CMD build --keep-empty-dirs --no-resave-data qpgraph StartedAt: 2024-10-16 20:15:53 -0400 (Wed, 16 Oct 2024) EndedAt: 2024-10-16 20:17:39 -0400 (Wed, 16 Oct 2024) EllapsedTime: 106.2 seconds RetCode: 0 Status: OK PackageFile: qpgraph_2.38.0.tar.gz PackageFileSize: 2.699 MiB