Package: qpgraph Version: 2.38.0 Command: /Library/Frameworks/R.framework/Resources/bin/R CMD INSTALL qpgraph StartedAt: 2024-10-16 15:37:09 -0400 (Wed, 16 Oct 2024) EndedAt: 2024-10-16 15:39:15 -0400 (Wed, 16 Oct 2024) EllapsedTime: 126.1 seconds RetCode: 0 Status: OK