Package: qpgraph Version: 2.38.0 Command: /Library/Frameworks/R.framework/Resources/bin/R CMD check --install=check:qpgraph.install-out.txt --library=/Library/Frameworks/R.framework/Resources/library --no-vignettes --timings qpgraph_2.38.0.tar.gz StartedAt: 2024-10-17 11:18:52 -0400 (Thu, 17 Oct 2024) EndedAt: 2024-10-17 11:30:28 -0400 (Thu, 17 Oct 2024) EllapsedTime: 696.7 seconds RetCode: 0 Status: OK CheckDir: qpgraph.Rcheck Warnings: 0