Package: qpgraph Version: 2.38.0 Command: /Library/Frameworks/R.framework/Resources/bin/R CMD build --keep-empty-dirs --no-resave-data qpgraph StartedAt: 2024-10-16 22:18:53 -0400 (Wed, 16 Oct 2024) EndedAt: 2024-10-16 22:23:54 -0400 (Wed, 16 Oct 2024) EllapsedTime: 301.0 seconds RetCode: 0 Status: OK PackageFile: qpgraph_2.38.0.tar.gz PackageFileSize: 2.708 MiB