Package: qpgraph Version: 2.38.0 Command: /Library/Frameworks/R.framework/Resources/bin/R CMD INSTALL qpgraph StartedAt: 2024-06-09 15:19:10 -0400 (Sun, 09 Jun 2024) EndedAt: 2024-06-09 15:20:22 -0400 (Sun, 09 Jun 2024) EllapsedTime: 72.7 seconds RetCode: 0 Status: OK