Package: qpgraph Version: 2.38.0 Command: /Library/Frameworks/R.framework/Resources/bin/R CMD build --keep-empty-dirs --no-resave-data qpgraph StartedAt: 2024-06-09 17:48:34 -0400 (Sun, 09 Jun 2024) EndedAt: 2024-06-09 17:50:38 -0400 (Sun, 09 Jun 2024) EllapsedTime: 123.8 seconds RetCode: 0 Status: OK PackageFile: qpgraph_2.38.0.tar.gz PackageFileSize: 2.702 MiB