Package: qpgraph Version: 2.38.0 Command: /home/biocbuild/R/R-beta-2024-04-15_r86425/bin/R CMD build --keep-empty-dirs --no-resave-data qpgraph StartedAt: 2024-05-09 02:42:34 -0000 (Thu, 09 May 2024) EndedAt: 2024-05-09 02:48:08 -0000 (Thu, 09 May 2024) EllapsedTime: 334.4 seconds RetCode: 0 Status: OK PackageFile: qpgraph_2.38.0.tar.gz PackageFileSize: 2.648 MiB