Package: qpgraph Version: 2.38.0 Command: /Library/Frameworks/R.framework/Resources/bin/R CMD INSTALL qpgraph StartedAt: 2024-06-09 15:45:59 -0400 (Sun, 09 Jun 2024) EndedAt: 2024-06-09 15:47:33 -0400 (Sun, 09 Jun 2024) EllapsedTime: 94.0 seconds RetCode: 0 Status: OK