Package: qpgraph Version: 2.38.0 Command: /Library/Frameworks/R.framework/Resources/bin/R CMD build --keep-empty-dirs --no-resave-data qpgraph StartedAt: 2024-06-10 02:55:22 -0400 (Mon, 10 Jun 2024) EndedAt: 2024-06-10 02:58:25 -0400 (Mon, 10 Jun 2024) EllapsedTime: 183.6 seconds RetCode: 0 Status: OK PackageFile: qpgraph_2.38.0.tar.gz PackageFileSize: 2.703 MiB