Package: qpgraph Version: 2.38.0 Command: rm -rf qpgraph.buildbin-libdir && mkdir qpgraph.buildbin-libdir && /Users/biocbuild/BBS/utils/build-universal.sh qpgraph_2.38.0.tar.gz /Library/Frameworks/R.framework/Resources/bin/R qpgraph.buildbin-libdir StartedAt: 2024-06-11 12:38:50 -0400 (Tue, 11 Jun 2024) EndedAt: 2024-06-11 12:40:56 -0400 (Tue, 11 Jun 2024) EllapsedTime: 126.8 seconds RetCode: 0 Status: OK PackageFile: qpgraph_2.38.0.tgz PackageFileSize: 4.088 MiB