Package: qpcrNorm Version: 1.62.0 Command: chmod a+r qpcrNorm -R && F:\biocbuild\bbs-3.19-bioc\R\bin\R.exe CMD build --keep-empty-dirs --no-resave-data qpcrNorm StartedAt: 2024-06-26 21:09:56 -0400 (Wed, 26 Jun 2024) EndedAt: 2024-06-26 21:10:09 -0400 (Wed, 26 Jun 2024) EllapsedTime: 13.3 seconds RetCode: 0 Status: OK PackageFile: qpcrNorm_1.62.0.tar.gz PackageFileSize: 476.7 KiB