Package: qpcrNorm Version: 1.62.0 Command: /Library/Frameworks/R.framework/Resources/bin/R CMD build --keep-empty-dirs --no-resave-data qpcrNorm StartedAt: 2024-10-16 22:18:46 -0400 (Wed, 16 Oct 2024) EndedAt: 2024-10-16 22:19:16 -0400 (Wed, 16 Oct 2024) EllapsedTime: 29.9 seconds RetCode: 0 Status: OK PackageFile: qpcrNorm_1.62.0.tar.gz PackageFileSize: 549.4 KiB