Package: qpcrNorm Version: 1.62.0 Command: rm -rf qpcrNorm.buildbin-libdir && mkdir qpcrNorm.buildbin-libdir && /Users/biocbuild/BBS/utils/build-universal.sh qpcrNorm_1.62.0.tar.gz /Library/Frameworks/R.framework/Resources/bin/R qpcrNorm.buildbin-libdir StartedAt: 2024-10-17 16:54:05 -0400 (Thu, 17 Oct 2024) EndedAt: 2024-10-17 16:54:17 -0400 (Thu, 17 Oct 2024) EllapsedTime: 11.4 seconds RetCode: 0 Status: OK PackageFile: qpcrNorm_1.62.0.tgz PackageFileSize: 597.8 KiB