Package: qpcrNorm Version: 1.62.0 Command: rm -rf qpcrNorm.buildbin-libdir && mkdir qpcrNorm.buildbin-libdir && /Users/biocbuild/BBS/utils/build-universal.sh qpcrNorm_1.62.0.tar.gz /Library/Frameworks/R.framework/Resources/bin/R qpcrNorm.buildbin-libdir StartedAt: 2024-06-10 00:33:31 -0400 (Mon, 10 Jun 2024) EndedAt: 2024-06-10 00:33:39 -0400 (Mon, 10 Jun 2024) EllapsedTime: 7.9 seconds RetCode: 0 Status: OK PackageFile: qpcrNorm_1.62.0.tgz PackageFileSize: 597.4 KiB