Package: qmtools Version: 1.8.0 Command: /Library/Frameworks/R.framework/Resources/bin/R CMD build --keep-empty-dirs --no-resave-data qmtools StartedAt: 2024-06-10 02:55:10 -0400 (Mon, 10 Jun 2024) EndedAt: 2024-06-10 02:56:17 -0400 (Mon, 10 Jun 2024) EllapsedTime: 67.2 seconds RetCode: 0 Status: OK PackageFile: qmtools_1.8.0.tar.gz PackageFileSize: 1.415 MiB