Package: qmtools Version: 1.8.0 Command: rm -rf qmtools.buildbin-libdir && mkdir qmtools.buildbin-libdir && /Users/biocbuild/BBS/utils/build-universal.sh qmtools_1.8.0.tar.gz /Library/Frameworks/R.framework/Resources/bin/R qmtools.buildbin-libdir StartedAt: 2024-10-18 20:05:08 -0400 (Fri, 18 Oct 2024) EndedAt: 2024-10-18 20:05:44 -0400 (Fri, 18 Oct 2024) EllapsedTime: 35.2 seconds RetCode: 0 Status: OK PackageFile: qmtools_1.8.0.tgz PackageFileSize: 1.538 MiB