Package: qcmetrics Version: 1.42.0 Command: rm -rf qcmetrics.buildbin-libdir && mkdir qcmetrics.buildbin-libdir && /Users/biocbuild/BBS/utils/build-universal.sh qcmetrics_1.42.0.tar.gz /Library/Frameworks/R.framework/Resources/bin/R qcmetrics.buildbin-libdir StartedAt: 2024-10-17 16:53:44 -0400 (Thu, 17 Oct 2024) EndedAt: 2024-10-17 16:54:05 -0400 (Thu, 17 Oct 2024) EllapsedTime: 21.5 seconds RetCode: 0 Status: OK PackageFile: qcmetrics_1.42.0.tgz PackageFileSize: 4.07 MiB