Package: qcmetrics Version: 1.42.0 Command: rm -rf qcmetrics.buildbin-libdir && mkdir qcmetrics.buildbin-libdir && /Users/biocbuild/BBS/utils/build-universal.sh qcmetrics_1.42.0.tar.gz /Library/Frameworks/R.framework/Resources/bin/R qcmetrics.buildbin-libdir StartedAt: 2024-06-11 12:38:12 -0400 (Tue, 11 Jun 2024) EndedAt: 2024-06-11 12:38:29 -0400 (Tue, 11 Jun 2024) EllapsedTime: 16.8 seconds RetCode: 0 Status: OK PackageFile: qcmetrics_1.42.0.tgz PackageFileSize: 4.07 MiB