Package: qcmetrics Version: 1.42.0 Command: /Library/Frameworks/R.framework/Resources/bin/R CMD INSTALL qcmetrics StartedAt: 2024-10-16 16:54:08 -0400 (Wed, 16 Oct 2024) EndedAt: 2024-10-16 16:54:17 -0400 (Wed, 16 Oct 2024) EllapsedTime: 9.2 seconds RetCode: 0 Status: OK