Package: qcmetrics Version: 1.42.0 Command: /Library/Frameworks/R.framework/Resources/bin/R CMD build --keep-empty-dirs --no-resave-data qcmetrics StartedAt: 2024-10-17 06:53:23 -0400 (Thu, 17 Oct 2024) EndedAt: 2024-10-17 06:54:05 -0400 (Thu, 17 Oct 2024) EllapsedTime: 41.8 seconds RetCode: 0 Status: OK PackageFile: qcmetrics_1.42.0.tar.gz PackageFileSize: 4.216 MiB