Package: qckitfastq Version: 1.20.0 Command: E:\biocbuild\bbs-3.19-bioc\R\bin\R.exe CMD INSTALL qckitfastq StartedAt: 2024-10-16 16:08:52 -0400 (Wed, 16 Oct 2024) EndedAt: 2024-10-16 16:09:28 -0400 (Wed, 16 Oct 2024) EllapsedTime: 35.8 seconds RetCode: 0 Status: OK