Package: qckitfastq Version: 1.20.0 Command: chmod a+r qckitfastq -R && E:\biocbuild\bbs-3.19-bioc\R\bin\R.exe CMD build --keep-empty-dirs --no-resave-data qckitfastq StartedAt: 2024-10-16 21:16:21 -0400 (Wed, 16 Oct 2024) EndedAt: 2024-10-16 21:17:26 -0400 (Wed, 16 Oct 2024) EllapsedTime: 65.8 seconds RetCode: 1 Status: ERROR PackageFile: None PackageFileSize: NA