Package: qckitfastq Version: 1.20.0 Command: /home/biocbuild/bbs-3.19-bioc/R/bin/R CMD INSTALL qckitfastq StartedAt: 2024-10-16 15:55:13 -0400 (Wed, 16 Oct 2024) EndedAt: 2024-10-16 15:55:31 -0400 (Wed, 16 Oct 2024) EllapsedTime: 18.1 seconds RetCode: 0 Status: OK