Package: qckitfastq Version: 1.20.0 Command: /Library/Frameworks/R.framework/Resources/bin/R CMD build --keep-empty-dirs --no-resave-data qckitfastq StartedAt: 2024-10-16 22:17:26 -0400 (Wed, 16 Oct 2024) EndedAt: 2024-10-16 22:19:16 -0400 (Wed, 16 Oct 2024) EllapsedTime: 110.1 seconds RetCode: 0 Status: OK PackageFile: qckitfastq_1.20.0.tar.gz PackageFileSize: 979.7 KiB