Package: qckitfastq Version: 1.20.0 Command: /home/biocbuild/R/R-beta-2024-04-15_r86425/bin/R CMD build --keep-empty-dirs --no-resave-data qckitfastq StartedAt: 2024-05-09 02:41:49 -0000 (Thu, 09 May 2024) EndedAt: 2024-05-09 02:42:48 -0000 (Thu, 09 May 2024) EllapsedTime: 58.1 seconds RetCode: 0 Status: OK PackageFile: qckitfastq_1.20.0.tar.gz PackageFileSize: 968.2 KiB