Package: qckitfastq Version: 1.20.0 Command: /Library/Frameworks/R.framework/Resources/bin/R CMD build --keep-empty-dirs --no-resave-data qckitfastq StartedAt: 2024-06-10 02:54:09 -0400 (Mon, 10 Jun 2024) EndedAt: 2024-06-10 02:55:10 -0400 (Mon, 10 Jun 2024) EllapsedTime: 60.3 seconds RetCode: 0 Status: OK PackageFile: qckitfastq_1.20.0.tar.gz PackageFileSize: 978.7 KiB