Package: qckitfastq Version: 1.20.0 Command: /Library/Frameworks/R.framework/Resources/bin/R CMD check --install=check:qckitfastq.install-out.txt --library=/Library/Frameworks/R.framework/Resources/library --no-vignettes --timings qckitfastq_1.20.0.tar.gz StartedAt: 2024-10-18 08:20:22 -0400 (Fri, 18 Oct 2024) EndedAt: 2024-10-18 08:21:54 -0400 (Fri, 18 Oct 2024) EllapsedTime: 91.3 seconds RetCode: 0 Status: OK CheckDir: qckitfastq.Rcheck Warnings: 0