Package: qPLEXanalyzer Version: 1.22.1 Command: chmod a+r qPLEXanalyzer -R && E:\biocbuild\bbs-3.19-bioc\R\bin\R.exe CMD build --keep-empty-dirs --no-resave-data qPLEXanalyzer StartedAt: 2024-10-16 21:17:01 -0400 (Wed, 16 Oct 2024) EndedAt: 2024-10-16 21:21:21 -0400 (Wed, 16 Oct 2024) EllapsedTime: 259.5 seconds RetCode: 0 Status: OK PackageFile: qPLEXanalyzer_1.22.1.tar.gz PackageFileSize: 3.028 MiB