Package: qPLEXanalyzer Version: 1.22.1 Command: /home/biocbuild/bbs-3.19-bioc/R/bin/R CMD check --install=check:qPLEXanalyzer.install-out.txt --library=/home/biocbuild/bbs-3.19-bioc/R/site-library --timings qPLEXanalyzer_1.22.1.tar.gz StartedAt: 2024-10-17 04:01:49 -0400 (Thu, 17 Oct 2024) EndedAt: 2024-10-17 04:06:28 -0400 (Thu, 17 Oct 2024) EllapsedTime: 278.5 seconds RetCode: 1 Status: ERROR CheckDir: qPLEXanalyzer.Rcheck Warnings: NA