Package: qPLEXanalyzer Version: 1.22.1 Command: /Library/Frameworks/R.framework/Resources/bin/R CMD build --keep-empty-dirs --no-resave-data qPLEXanalyzer StartedAt: 2024-10-16 22:18:53 -0400 (Wed, 16 Oct 2024) EndedAt: 2024-10-16 22:21:37 -0400 (Wed, 16 Oct 2024) EllapsedTime: 163.9 seconds RetCode: 0 Status: OK PackageFile: qPLEXanalyzer_1.22.1.tar.gz PackageFileSize: 3.614 MiB